BEGIN:VCALENDAR
VERSION:1.0
PRODID:Open2CKalenderExportV11
BEGIN:VEVENT
DTSTAMP:20260401T065050Z
DTSTART:20260511T193000Z
DTEND:20260511T193000Z
CATEGORIES:Sitzungen
SUMMARY:Gemeinderatssitzung Hettenshausen
DESCRIPTION:Bitte geben Sie Ihre Anträge bis spätestens 14 Tage vor dem Sitzungstermin im Rathaus der Gemeinde ab, da sie sonst für diese Sitzung nicht mehr berücksichtigt werden können. | Die Sitzungen beginnen regelmäßig um 19.30 Uhr. | Die Sitzungen beginnen in der Regel in der Winterzeit um 19.00 Uhr und in der Sommerzeit um 19:30 Uhr | Die genauen Zeiten finden Sie hier: | Link zum Bürgerserviceportal |   | Organisator   Gemeinde Hettenshausen | Hauptstraße 43 | 85276 Hettenshausen | Tel: 08441 8073-0
LOCATION:Sitzungssaal des Dorfheims Hettenshausen
UID:4c2d403b11a8da4738e3ee0de9d4342d-9c8ced55e9a3a73af519929128b4d1e9
PRIORITY:3
END:VEVENT
BEGIN:VEVENT
DTSTAMP:20260401T064850Z
DTSTART:20260615T193000Z
DTEND:20260615T193000Z
CATEGORIES:Sitzungen
SUMMARY:Gemeinderatssitzung Hettenshausen
DESCRIPTION:Bitte geben Sie Ihre Anträge bis spätestens 14 Tage vor dem Sitzungstermin im Rathaus der Gemeinde ab, da sie sonst für diese Sitzung nicht mehr berücksichtigt werden können. | Die Sitzungen beginnen in der Regel in der Winterzeit um 19.00 Uhr und in der Sommerzeit um 19:30 Uhr | Die genauen Zeiten finden Sie hier: |   | Link zum Bürgerserviceportal |   | Organisator   Gemeinde Hettenshausen | Hauptstraße 43 | 85276 Hettenshausen | Tel: 08441 8073-0
LOCATION:Sitzungssaal des Dorfheims Hettenshausen
UID:cb05871ae531ab8fcce95f3eafa92798-27cdeac91301dc1f6f2d81f6e140418b
PRIORITY:3
END:VEVENT
BEGIN:VEVENT
DTSTAMP:20251117T121905Z
DTSTART:20260704T000000Z
DTEND:20260704T000000Z
CATEGORIES:Vereine
SUMMARY:FC Hettenshausen -Power Disco Night
DESCRIPTION:Power Disco Night | Organisator   FC Hettenshausen
LOCATION:
UID:311d74322f67ddc0ca5cebb6469c0e58-25a1db6021348cb4c920f7e5c00ffc4c
PRIORITY:3
END:VEVENT
BEGIN:VEVENT
DTSTAMP:20251117T121840Z
DTSTART:20260803T000000Z
DTEND:20260807T000000Z
CATEGORIES:Vereine
SUMMARY:FC Hettenshausen -FC-Bayern Camp
DESCRIPTION:Power Disco Night | Organisator   FC Hettenshausen
LOCATION:Auf dem Sportplatz
UID:ec5fdbd7cfa0bf4e731644d3e98ac080-96ad988102562cae14ce085c8593a4cd
PRIORITY:3
END:VEVENT
END:VCALENDAR
