BEGIN:VCALENDAR
VERSION:2.0
PRODID:< http://www.open2c.de/ >
METHOD:PUBLISH
X-PUBLISHED-TTL:PT12H
BEGIN:VEVENT
CREATED:20251111T135848Z
LAST-MODIFIED:20260421T060451Z
ORGANIZER;CN="Gemeinde Ilmmünster\nFreisinger Straße 3\n85304 Ilmmünster\nTel: 08441 8073-0"
DTSTAMP:20260421T152832Z
DTSTART;VALUE=DATE:20260512
CATEGORIES:Sitzungen
SUMMARY:Gemeinderatssitzung Ilmmünster
DESCRIPTION:Die Sitzungstermine der Gemeinde Ilmmünster sind voraussichtli
	ch immer am ersten Dienstag im Monat. Bitte geben Sie Ihre Anträge bis sp
	ätestens 10 Tage vor dem Sitzungstermin im Rathaus der Gemeinde ab\, da si
	e sonst für diese Sitzung nicht mehr berücksichtigt werden können. Die 
	Sitzungen beginnen in der Regel in der Winterzeit um 19.00 Uhr und in der 
	Sommerzeit um 19:30 Uhr Die genauen Zeiten finden Sie hier: Link zum Bürg
	erserviceportal     Organisator Gemeinde Ilmmünster Freisinger Straße 
	3 85304 Ilmmünster Tel: 08441 8073-0
LOCATION:Sitzungssaal des Rathaus Ilmmünster
UID:8685cb97b738e7f2b8cedcc15e9578fe@79809f667ac12f91184d08c30b9ba3b6
END:VEVENT
END:VCALENDAR