BEGIN:VCALENDAR
VERSION:2.0
PRODID:< http://www.open2c.de/ >
METHOD:PUBLISH
X-PUBLISHED-TTL:PT12H
BEGIN:VEVENT
CREATED:20251113T133427Z
LAST-MODIFIED:20251113T133527Z
DTSTAMP:20260421T135432Z
DTSTART;VALUE=DATE:20261024
CATEGORIES:Vereine
SUMMARY:Wanderfreunde Ilmmünster -Jahrehauptversammlung -Wanderheim
UID:8421825946c607ecc0eb4b8a3fc0bb72@79809f667ac12f91184d08c30b9ba3b6
END:VEVENT
END:VCALENDAR