BEGIN:VCALENDAR
VERSION:2.0
PRODID:< http://www.open2c.de/ >
METHOD:PUBLISH
X-PUBLISHED-TTL:PT12H
BEGIN:VEVENT
CREATED:20251117T133810Z
LAST-MODIFIED:20251117T133837Z
ORGANIZER;CN="PBC Ilmmünster"
DTSTAMP:20260419T132337Z
DTSTART;VALUE=DATE:20260426
CATEGORIES:Vereine
SUMMARY:PBC Ilmmünster - Vereinsmeisterschaft 9 Ball
DESCRIPTION:Organisator PBC Ilmmünster
LOCATION:For Play Pfaffenhofen
UID:4ae6a134f77754461759e781f99e0680@79809f667ac12f91184d08c30b9ba3b6
END:VEVENT
END:VCALENDAR