BEGIN:VCALENDAR
VERSION:2.0
PRODID:< http://www.open2c.de/ >
METHOD:PUBLISH
X-PUBLISHED-TTL:PT12H
BEGIN:VEVENT
CREATED:20251117T141739Z
LAST-MODIFIED:20251117T141817Z
ORGANIZER;CN="Seniorentreff Ilmmünster"
DTSTAMP:20260425T103018Z
DTSTART;VALUE=DATE:20261202
CATEGORIES:Senioren
SUMMARY:Seniorennachmittag im Pfarrheims Ilmmünster -Adventsfeier
DESCRIPTION:Organisator Seniorentreff Ilmmünster
LOCATION:Pfarrheim Ilmmünster
UID:38c62a4416932c446259ce0c3253ab05@79809f667ac12f91184d08c30b9ba3b6
END:VEVENT
END:VCALENDAR